BEGIN:VCALENDAR
VERSION:2.0
PRODID:City of Ocala Calendar Creator
METHOD:PUBLISH
BEGIN:VEVENT
DTSTAMP:20210615T133849
DTSTART:20210611T080000
DTEND:20210615T235900
SUMMARY:Advertisement of Availability of Coronavirus Funding of $422,871 Substantial Amendment to the CDBG 2019-2023 Five-Year Consolidated Plan
DESCRIPTION:
X-ALT-DESC;FMTTYPE=text/html:
LOCATION:
CLASS:PUBLIC
END:VEVENT
END:VCALENDAR
