BEGIN:VCALENDAR
VERSION:2.0
PRODID:City of Ocala Calendar Creator
METHOD:PUBLISH
BEGIN:VEVENT
DTSTAMP:20251105T135736
DTSTART:20251105T000000
DTEND:20251105T235900
SUMMARY:LOI# OFN/250746: Operations Support System and Business Support System (OSS/BSS) for Fiber Network Services (Presentations Only, Not open to the public)
DESCRIPTION:
X-ALT-DESC;FMTTYPE=text/html:
LOCATION:
CLASS:PUBLIC
END:VEVENT
END:VCALENDAR
