BEGIN:VCALENDAR
VERSION:2.0
PRODID:City of Ocala Calendar Creator
METHOD:PUBLISH
BEGIN:VEVENT
DTSTAMP:20251212T081232
DTSTART:20251218T110000
DTEND:20251218T235900
SUMMARY:RFQ# GRM/260186: Demolition and Removal of Structure at 1744 NW 4th St
DESCRIPTION:
X-ALT-DESC;FMTTYPE=text/html:
LOCATION:
CLASS:PUBLIC
END:VEVENT
END:VCALENDAR
