BEGIN:VCALENDAR
VERSION:2.0
PRODID:City of Ocala Calendar Creator
METHOD:PUBLISH
BEGIN:VEVENT
DTSTAMP:20251212T081921
DTSTART:20251216T140000
DTEND:20251216T235900
SUMMARY:ARP Executive Committee Telephonic Rate Workshop
DESCRIPTION:
X-ALT-DESC;FMTTYPE=text/html:
LOCATION:
CLASS:PUBLIC
END:VEVENT
END:VCALENDAR
